BEGIN:VCALENDAR
VERSION:2.0
PRODID:-//Matthew 25 - ECPv6.15.14//NONSGML v1.0//EN
CALSCALE:GREGORIAN
METHOD:PUBLISH
X-WR-CALNAME:Matthew 25
X-ORIGINAL-URL:https://www.matthew-25.org
X-WR-CALDESC:Events for Matthew 25
REFRESH-INTERVAL;VALUE=DURATION:PT1H
X-Robots-Tag:noindex
X-PUBLISHED-TTL:PT1H
BEGIN:VTIMEZONE
TZID:America/Chicago
BEGIN:DAYLIGHT
TZOFFSETFROM:-0600
TZOFFSETTO:-0500
TZNAME:CDT
DTSTART:20220313T080000
END:DAYLIGHT
BEGIN:STANDARD
TZOFFSETFROM:-0500
TZOFFSETTO:-0600
TZNAME:CST
DTSTART:20221106T070000
END:STANDARD
BEGIN:DAYLIGHT
TZOFFSETFROM:-0600
TZOFFSETTO:-0500
TZNAME:CDT
DTSTART:20230312T080000
END:DAYLIGHT
BEGIN:STANDARD
TZOFFSETFROM:-0500
TZOFFSETTO:-0600
TZNAME:CST
DTSTART:20231105T070000
END:STANDARD
BEGIN:DAYLIGHT
TZOFFSETFROM:-0600
TZOFFSETTO:-0500
TZNAME:CDT
DTSTART:20240310T080000
END:DAYLIGHT
BEGIN:STANDARD
TZOFFSETFROM:-0500
TZOFFSETTO:-0600
TZNAME:CST
DTSTART:20241103T070000
END:STANDARD
END:VTIMEZONE
BEGIN:VEVENT
DTSTART;TZID=America/Chicago:20230816T183000
DTEND;TZID=America/Chicago:20230816T203000
DTSTAMP:20260424T115501
CREATED:20230512T191823Z
LAST-MODIFIED:20230614T192933Z
UID:10000053-1692210600-1692217800@www.matthew-25.org
SUMMARY:Community Conversations
DESCRIPTION:If you are interested in joining a conversation with curious and open-minded individuals\, join us for Community Conversation on the third Wednesday of each month. No need to prepare for or have any special knowledge\, we welcome you to join us and share your own thoughts and feelings. \nMatthew 25 and a team of dedicated volunteers host monthly Community Conversations at the Groundswell Event Space\, 201 Third Ave. SW. The theme changes monthly\, but each time\, the conversations are rich and eye-opening for participants. The evening is structured\, so everybody gets a chance to talk. Most of the time is spent in smaller groups\, where it’s easy to share and get to know each other. And if you’re not a talker\, you are always welcome to just listen. \nWhy do we do this? Because it’s really important—but also rare these days—to spend face-to-face time with people you don’t know very well. Each time we host this event\, we learn something or see the world from a different perspective. \nA strong community doesn’t just happen. It’s built by people spending time together\, learning from one another and deepening relationships. That fabric becomes even stronger if it’s built among people from diverse groups. \nJoin this free event if you’d like to meet new people\, have meaningful\, respectful conversations\, and learn through listening. No RSVP required.
URL:https://www.matthew-25.org/event/community-conversations/2023-08-16/
LOCATION:Groundswell Cafe\, 201 Third Ave. SW\, Cedar Rapids\, IA\, 52404\, United States
CATEGORIES:Community Building
ATTACH;FMTTYPE=image/jpeg:https://www.matthew-25.org/wp-content/uploads/2023/05/drone-shot-jpg-scaled.jpg
ORGANIZER;CN="Matthew 25":MAILTO:info@matthew-25.org
END:VEVENT
BEGIN:VEVENT
DTSTART;TZID=America/Chicago:20230719T183000
DTEND;TZID=America/Chicago:20230719T203000
DTSTAMP:20260424T115501
CREATED:20230512T191823Z
LAST-MODIFIED:20230614T192933Z
UID:10000052-1689791400-1689798600@www.matthew-25.org
SUMMARY:Community Conversations
DESCRIPTION:If you are interested in joining a conversation with curious and open-minded individuals\, join us for Community Conversation on the third Wednesday of each month. No need to prepare for or have any special knowledge\, we welcome you to join us and share your own thoughts and feelings. \nMatthew 25 and a team of dedicated volunteers host monthly Community Conversations at the Groundswell Event Space\, 201 Third Ave. SW. The theme changes monthly\, but each time\, the conversations are rich and eye-opening for participants. The evening is structured\, so everybody gets a chance to talk. Most of the time is spent in smaller groups\, where it’s easy to share and get to know each other. And if you’re not a talker\, you are always welcome to just listen. \nWhy do we do this? Because it’s really important—but also rare these days—to spend face-to-face time with people you don’t know very well. Each time we host this event\, we learn something or see the world from a different perspective. \nA strong community doesn’t just happen. It’s built by people spending time together\, learning from one another and deepening relationships. That fabric becomes even stronger if it’s built among people from diverse groups. \nJoin this free event if you’d like to meet new people\, have meaningful\, respectful conversations\, and learn through listening. No RSVP required.
URL:https://www.matthew-25.org/event/community-conversations/2023-07-19/
LOCATION:Groundswell Cafe\, 201 Third Ave. SW\, Cedar Rapids\, IA\, 52404\, United States
CATEGORIES:Community Building
ATTACH;FMTTYPE=image/jpeg:https://www.matthew-25.org/wp-content/uploads/2023/05/drone-shot-jpg-scaled.jpg
ORGANIZER;CN="Matthew 25":MAILTO:info@matthew-25.org
END:VEVENT
BEGIN:VEVENT
DTSTART;TZID=America/Chicago:20230630T083000
DTEND;TZID=America/Chicago:20230630T153000
DTSTAMP:20260424T115501
CREATED:20230512T180123Z
LAST-MODIFIED:20230512T180123Z
UID:10000049-1688113800-1688139000@www.matthew-25.org
SUMMARY:Transform Week
DESCRIPTION:Volunteer at our 8th Annual Transform Week\, June 26-30! \nVolunteers of all skill levels are invited to participate in a variety of projects\, from yard cleanup and painting fences\, to installing windows and patching roofs. \nThanks to amazing volunteers like you\, we are able to continue our commitment to quality affordable housing and strong neighborhood building. \nCheck out our webpage to learn more\, or click here to register for one\, two\, or all five days of Transform!
URL:https://www.matthew-25.org/event/transform-week/2023-06-30/
LOCATION:Groundswell Cafe\, 201 Third Ave. SW\, Cedar Rapids\, IA\, 52404\, United States
CATEGORIES:Housing
ATTACH;FMTTYPE=image/png:https://www.matthew-25.org/wp-content/uploads/2023/05/transform-volunteer-banner.png
ORGANIZER;CN="Matthew 25":MAILTO:info@matthew-25.org
END:VEVENT
BEGIN:VEVENT
DTSTART;TZID=America/Chicago:20230629T083000
DTEND;TZID=America/Chicago:20230629T153000
DTSTAMP:20260424T115501
CREATED:20230512T180123Z
LAST-MODIFIED:20230512T180123Z
UID:10000048-1688027400-1688052600@www.matthew-25.org
SUMMARY:Transform Week
DESCRIPTION:Volunteer at our 8th Annual Transform Week\, June 26-30! \nVolunteers of all skill levels are invited to participate in a variety of projects\, from yard cleanup and painting fences\, to installing windows and patching roofs. \nThanks to amazing volunteers like you\, we are able to continue our commitment to quality affordable housing and strong neighborhood building. \nCheck out our webpage to learn more\, or click here to register for one\, two\, or all five days of Transform!
URL:https://www.matthew-25.org/event/transform-week/2023-06-29/
LOCATION:Groundswell Cafe\, 201 Third Ave. SW\, Cedar Rapids\, IA\, 52404\, United States
CATEGORIES:Housing
ATTACH;FMTTYPE=image/png:https://www.matthew-25.org/wp-content/uploads/2023/05/transform-volunteer-banner.png
ORGANIZER;CN="Matthew 25":MAILTO:info@matthew-25.org
END:VEVENT
BEGIN:VEVENT
DTSTART;TZID=America/Chicago:20230628T083000
DTEND;TZID=America/Chicago:20230628T153000
DTSTAMP:20260424T115501
CREATED:20230512T180123Z
LAST-MODIFIED:20230512T180123Z
UID:10000047-1687941000-1687966200@www.matthew-25.org
SUMMARY:Transform Week
DESCRIPTION:Volunteer at our 8th Annual Transform Week\, June 26-30! \nVolunteers of all skill levels are invited to participate in a variety of projects\, from yard cleanup and painting fences\, to installing windows and patching roofs. \nThanks to amazing volunteers like you\, we are able to continue our commitment to quality affordable housing and strong neighborhood building. \nCheck out our webpage to learn more\, or click here to register for one\, two\, or all five days of Transform!
URL:https://www.matthew-25.org/event/transform-week/2023-06-28/
LOCATION:Groundswell Cafe\, 201 Third Ave. SW\, Cedar Rapids\, IA\, 52404\, United States
CATEGORIES:Housing
ATTACH;FMTTYPE=image/png:https://www.matthew-25.org/wp-content/uploads/2023/05/transform-volunteer-banner.png
ORGANIZER;CN="Matthew 25":MAILTO:info@matthew-25.org
END:VEVENT
BEGIN:VEVENT
DTSTART;TZID=America/Chicago:20230627T083000
DTEND;TZID=America/Chicago:20230627T153000
DTSTAMP:20260424T115501
CREATED:20230512T180123Z
LAST-MODIFIED:20230512T180123Z
UID:10000046-1687854600-1687879800@www.matthew-25.org
SUMMARY:Transform Week
DESCRIPTION:Volunteer at our 8th Annual Transform Week\, June 26-30! \nVolunteers of all skill levels are invited to participate in a variety of projects\, from yard cleanup and painting fences\, to installing windows and patching roofs. \nThanks to amazing volunteers like you\, we are able to continue our commitment to quality affordable housing and strong neighborhood building. \nCheck out our webpage to learn more\, or click here to register for one\, two\, or all five days of Transform!
URL:https://www.matthew-25.org/event/transform-week/2023-06-27/
LOCATION:Groundswell Cafe\, 201 Third Ave. SW\, Cedar Rapids\, IA\, 52404\, United States
CATEGORIES:Housing
ATTACH;FMTTYPE=image/png:https://www.matthew-25.org/wp-content/uploads/2023/05/transform-volunteer-banner.png
ORGANIZER;CN="Matthew 25":MAILTO:info@matthew-25.org
END:VEVENT
BEGIN:VEVENT
DTSTART;TZID=America/Chicago:20230626T083000
DTEND;TZID=America/Chicago:20230626T153000
DTSTAMP:20260424T115501
CREATED:20230512T180123Z
LAST-MODIFIED:20230512T180123Z
UID:10000045-1687768200-1687793400@www.matthew-25.org
SUMMARY:Transform Week
DESCRIPTION:Volunteer at our 8th Annual Transform Week\, June 26-30! \nVolunteers of all skill levels are invited to participate in a variety of projects\, from yard cleanup and painting fences\, to installing windows and patching roofs. \nThanks to amazing volunteers like you\, we are able to continue our commitment to quality affordable housing and strong neighborhood building. \nCheck out our webpage to learn more\, or click here to register for one\, two\, or all five days of Transform!
URL:https://www.matthew-25.org/event/transform-week/2023-06-26/
LOCATION:Groundswell Cafe\, 201 Third Ave. SW\, Cedar Rapids\, IA\, 52404\, United States
CATEGORIES:Housing
ATTACH;FMTTYPE=image/png:https://www.matthew-25.org/wp-content/uploads/2023/05/transform-volunteer-banner.png
ORGANIZER;CN="Matthew 25":MAILTO:info@matthew-25.org
END:VEVENT
BEGIN:VEVENT
DTSTART;TZID=America/Chicago:20230619T173000
DTEND;TZID=America/Chicago:20230619T193000
DTSTAMP:20260424T115501
CREATED:20230606T210608Z
LAST-MODIFIED:20230606T210608Z
UID:10000132-1687195800-1687203000@www.matthew-25.org
SUMMARY:Cooking for a Cause – June 19
DESCRIPTION:Join us at 5:30 pm on June 19 for a Cooking for a Cause class\, where Chefs Philip and Jason will lead you through the preparation and cooking of a recipe\, while making extras for our Good Meals To Go meal program at the nonprofit Cultivate Hope Corner Store. \nJune’s class will be all about Mediterranean dishes\, including spanakopita\, braised chicken\, and our Groundswell Hummus recipe! This class is suitable for beginners\, but will include some work with kitchen knives\, so this class is recommended for ages 18 and up. \nCost: $20 \nIncludes: \n\nInstructional Class and take-home recipe card\nOne meal per attendee\nYour cost also covers some of the food costs for the meals that will go to the Cultivate Hope Corner Store!\n\nDetails: \n$20/person\, purchase tickets below \n5:30-7:30 pm on June 19\, 2023 \nHosted at Groundswell Cafe\, 201 Third Ave. SW\, Cedar Rapids \n  \nQuestions? Contact us or give us a call at 319-200-2791.
URL:https://www.matthew-25.org/event/cooking-for-a-cause-june-19-2023/
LOCATION:Groundswell Cafe\, 201 Third Ave. SW\, Cedar Rapids\, IA\, 52404\, United States
CATEGORIES:Food
ATTACH;FMTTYPE=image/png:https://www.matthew-25.org/wp-content/uploads/2023/06/Cooking-for-a-Cause-FB-banner-june-2023.png
ORGANIZER;CN="Groundswell Cafe":MAILTO:groundswell@matthew-25.org
END:VEVENT
BEGIN:VEVENT
DTSTART;TZID=America/Chicago:20230522T123000
DTEND;TZID=America/Chicago:20230522T143000
DTSTAMP:20260424T115501
CREATED:20230426T015922Z
LAST-MODIFIED:20230505T195937Z
UID:10000027-1684758600-1684765800@www.matthew-25.org
SUMMARY:Cooking for a Cause
DESCRIPTION:Join us at 5:30 pm on May 22 for a Cooking for a Cause class\, where Chefs Philip and Jason will lead you through the preparation and cooking of a recipe\, while making extras for our Good Meals To Go meal program at the nonprofit Cultivate Hope Corner Store. \nThis month\, we are doing another introduction to veggie sushi rolling! This class is suitable for beginners\, but will include some work with kitchen knives\, so this class is recommended for ages 18 and up. \nCost: $20 \nIncludes: \n\nInstructional Class and take-home recipe card\nOne meal per attendee\nYour cost also covers some of the food costs for the meals that will go to the Cultivate Hope Corner Store!\n\nDetails: \n$20/person \n5:30-7:30 pm on May 22\, 2023 \nHosted at Groundswell Cafe\, 201 Third Ave. SW\, Cedar Rapids \nGet tickets now!
URL:https://www.matthew-25.org/event/cooking-may-2023/
LOCATION:Groundswell Cafe\, 201 Third Ave. SW\, Cedar Rapids\, IA\, 52404\, United States
CATEGORIES:Food
ATTACH;FMTTYPE=image/png:https://www.matthew-25.org/wp-content/uploads/2023/04/Cooking-for-a-Cause-FB-banner-11.png
ORGANIZER;CN="Groundswell Cafe":MAILTO:groundswell@matthew-25.org
END:VEVENT
BEGIN:VEVENT
DTSTART;TZID=America/Chicago:20230517T183000
DTEND;TZID=America/Chicago:20230517T203000
DTSTAMP:20260424T115502
CREATED:20230512T191823Z
LAST-MODIFIED:20230614T192933Z
UID:10000050-1684348200-1684355400@www.matthew-25.org
SUMMARY:Community Conversations
DESCRIPTION:If you are interested in joining a conversation with curious and open-minded individuals\, join us for Community Conversation on the third Wednesday of each month. No need to prepare for or have any special knowledge\, we welcome you to join us and share your own thoughts and feelings. \nMatthew 25 and a team of dedicated volunteers host monthly Community Conversations at the Groundswell Event Space\, 201 Third Ave. SW. The theme changes monthly\, but each time\, the conversations are rich and eye-opening for participants. The evening is structured\, so everybody gets a chance to talk. Most of the time is spent in smaller groups\, where it’s easy to share and get to know each other. And if you’re not a talker\, you are always welcome to just listen. \nWhy do we do this? Because it’s really important—but also rare these days—to spend face-to-face time with people you don’t know very well. Each time we host this event\, we learn something or see the world from a different perspective. \nA strong community doesn’t just happen. It’s built by people spending time together\, learning from one another and deepening relationships. That fabric becomes even stronger if it’s built among people from diverse groups. \nJoin this free event if you’d like to meet new people\, have meaningful\, respectful conversations\, and learn through listening. No RSVP required.
URL:https://www.matthew-25.org/event/community-conversations/2023-05-17/
LOCATION:Groundswell Cafe\, 201 Third Ave. SW\, Cedar Rapids\, IA\, 52404\, United States
CATEGORIES:Community Building
ATTACH;FMTTYPE=image/jpeg:https://www.matthew-25.org/wp-content/uploads/2023/05/drone-shot-jpg-scaled.jpg
ORGANIZER;CN="Matthew 25":MAILTO:info@matthew-25.org
END:VEVENT
BEGIN:VEVENT
DTSTART;TZID=America/Chicago:20230420T113000
DTEND;TZID=America/Chicago:20230420T133000
DTSTAMP:20260424T115502
CREATED:20230317T003118Z
LAST-MODIFIED:20230327T210235Z
UID:10000005-1681990200-1681997400@www.matthew-25.org
SUMMARY:Spring Celebration
DESCRIPTION:Join us for Matthew 25’s Spring Celebration from 4:30-6:30 pm on Thursday\, April 20\, at Groundswell Event Space! \nMingle and enjoy small bites and beverages at this open house-style event\, with a brief program at 5:15 pm celebrating YOU – our volunteers\, donors\, and everyone who supports Matthew 25 throughout the year. Meet our program managers and staff while interacting with our programs through hands-on activities around the Groundswell and Matthew 25 building! \nClick here to RSVP!  \nApril 20\, 4:30-6:30 pm\, with a short program at 5:15 pm \nGroundswell Event Space\, 201 Third Ave SW\, Cedar Rapids \n 
URL:https://www.matthew-25.org/event/spring-celebration/
LOCATION:Groundswell Cafe\, 201 Third Ave. SW\, Cedar Rapids\, IA\, 52404\, United States
CATEGORIES:Other Events
ATTACH;FMTTYPE=image/png:https://www.matthew-25.org/wp-content/uploads/2023/03/FRONT-FINAL.png
ORGANIZER;CN="Matthew 25":MAILTO:info@matthew-25.org
END:VEVENT
BEGIN:VEVENT
DTSTART;TZID=America/Chicago:20230403T123000
DTEND;TZID=America/Chicago:20230403T143000
DTSTAMP:20260424T115502
CREATED:20230316T222832Z
LAST-MODIFIED:20230508T203446Z
UID:10000004-1680525000-1680532200@www.matthew-25.org
SUMMARY:Cooking for a Cause
DESCRIPTION:Join us at 5:30 pm on April 3 for a Cooking for a Cause class\, where Chefs Philip and Jason will lead you through the preparation and cooking of a recipe\, while making extras for our Good Meals To Go meal program at the nonprofit Cultivate Hope Corner Store. \nApril’s class will feature some of Chef Philip’s Easter dinner favorites! This class is suitable for beginners\, but will include some work with kitchen knives\, so this class is recommended for ages 18 and up. \nCost: $20\, click here to register! \nIncludes: \n\nInstructional Class and take-home recipe card\nOne meal per attendee\nYour cost also covers some of the food costs for the meals that will go to the Cultivate Hope Corner Store!\n\nDetails: \n$20/person \n5:30-7:30 pm on April 3\, 2023 \nHosted at Groundswell Cafe\, 201 Third Ave. SW\, Cedar Rapids
URL:https://www.matthew-25.org/event/cooking-for-a-cause/
LOCATION:Groundswell Cafe\, 201 Third Ave. SW\, Cedar Rapids\, IA\, 52404\, United States
CATEGORIES:Food
ATTACH;FMTTYPE=image/png:https://www.matthew-25.org/wp-content/uploads/2023/03/Cooking-for-a-Cause-FB-banner-1.png
ORGANIZER;CN="Groundswell Cafe":MAILTO:groundswell@matthew-25.org
END:VEVENT
END:VCALENDAR