BEGIN:VCALENDAR
VERSION:2.0
PRODID:-//Matthew 25 - ECPv6.15.14//NONSGML v1.0//EN
CALSCALE:GREGORIAN
METHOD:PUBLISH
X-ORIGINAL-URL:https://www.matthew-25.org
X-WR-CALDESC:Events for Matthew 25
REFRESH-INTERVAL;VALUE=DURATION:PT1H
X-Robots-Tag:noindex
X-PUBLISHED-TTL:PT1H
BEGIN:VTIMEZONE
TZID:America/Chicago
BEGIN:DAYLIGHT
TZOFFSETFROM:-0600
TZOFFSETTO:-0500
TZNAME:CDT
DTSTART:20230312T080000
END:DAYLIGHT
BEGIN:STANDARD
TZOFFSETFROM:-0500
TZOFFSETTO:-0600
TZNAME:CST
DTSTART:20231105T070000
END:STANDARD
BEGIN:DAYLIGHT
TZOFFSETFROM:-0600
TZOFFSETTO:-0500
TZNAME:CDT
DTSTART:20240310T080000
END:DAYLIGHT
BEGIN:STANDARD
TZOFFSETFROM:-0500
TZOFFSETTO:-0600
TZNAME:CST
DTSTART:20241103T070000
END:STANDARD
BEGIN:DAYLIGHT
TZOFFSETFROM:-0600
TZOFFSETTO:-0500
TZNAME:CDT
DTSTART:20250309T080000
END:DAYLIGHT
BEGIN:STANDARD
TZOFFSETFROM:-0500
TZOFFSETTO:-0600
TZNAME:CST
DTSTART:20251102T070000
END:STANDARD
END:VTIMEZONE
BEGIN:VEVENT
DTSTART;TZID=America/Chicago:20240411T173000
DTEND;TZID=America/Chicago:20240411T190000
DTSTAMP:20260421T075936
CREATED:20240314T154704Z
LAST-MODIFIED:20240314T155021Z
UID:10000153-1712856600-1712862000@www.matthew-25.org
SUMMARY:Gardening Workshop: Garden Preparation
DESCRIPTION:This Gardening Workshop Series consists of six hands-on classes from April-September\, held at our Urban Farm near downtown Cedar Rapids. Each monthly session will have small class sizes for maximizing time and individualized attention. During harvests\, class participants may take home some of the produce\, and the rest will be provided to the Cultivate Hope Corner Store\, a small nonprofit grocery store with affordable groceries. \nOur monthly workshops are from 5:30-7:00 p.m. on the 2nd Thursday of each month\, April-September. \nJoin us on April 11th for our workshop on Garden Preparation. \nHere is a listing of the other workshops and topics: \n\nMay 9 :   Seeding and Planting\nJune 13 :  Crop Management\nJuly 11 :   Planning and Preparation\nAugust 8:  Soil Management\nSeptember 12:  Preservation\n\nIf you’re interested in attending\, you can sign up for just the classes that interest you most\, or for all 6 classes to get one free! \nSIGN UP FOR CLASSES
URL:https://www.matthew-25.org/event/gardening-workshops-2/
LOCATION:Cultivate Hope Urban Farm\, 437 G Ave. NW\, Cedar Rapids\, IA\, 52404\, United States
CATEGORIES:Food
ATTACH;FMTTYPE=image/png:https://www.matthew-25.org/wp-content/uploads/2024/03/Gardening-Ad-or-Event.png
ORGANIZER;CN="Matthew 25":MAILTO:info@matthew-25.org
END:VEVENT
BEGIN:VEVENT
DTSTART;TZID=America/Chicago:20240422T090000
DTEND;TZID=America/Chicago:20240427T190000
DTSTAMP:20260421T075936
CREATED:20240418T183459Z
LAST-MODIFIED:20250122T162915Z
UID:10000168-1713776400-1714244400@www.matthew-25.org
SUMMARY:Cultivate Hope Corner Store Anniversary Week
DESCRIPTION:We’re thrilled to announce that the Cultivate Hope Corner Store is celebrating its 2nd Anniversary from April 22nd to 27th! \nWe can’t wait to celebrate with you! Our store is open daily from 9 AM – 7 PM. \nBe sure to stop by during the week to take part in the festivities. More special events on Saturday\, April 27th. Thank you for being a part of our journey\, and here’s to many more years of serving you with quality products and exceptional service. \n 
URL:https://www.matthew-25.org/event/cultivate-hope-corner-store-anniversary-week/
LOCATION:Cultivate Hope Corner Store\, 604 Ellis Blvd. NW\, Cedar Rapids\, IA\, 52405\, United States
ATTACH;FMTTYPE=image/jpeg:https://www.matthew-25.org/wp-content/uploads/2024/04/20220427_163215-scaled.jpg
ORGANIZER;CN="Matthew 25":MAILTO:info@matthew-25.org
END:VEVENT
BEGIN:VEVENT
DTSTART;TZID=America/Chicago:20240430T161500
DTEND;TZID=America/Chicago:20240430T183000
DTSTAMP:20260421T075936
CREATED:20240401T201816Z
LAST-MODIFIED:20240429T185141Z
UID:10000160-1714493700-1714501800@www.matthew-25.org
SUMMARY:Spring Celebration
DESCRIPTION:Spring is here\, and it’s time to celebrate! \nCome join us for the Matthew 25 Spring Celebration\, where we extend our gratitude to YOU – our incredible volunteers\, donors\, and supporters! \nTuesday\, April 30\, from 4:15 to 6:30 pm\, with a brief program beginning at 4:30 pm. \nThis event is free and open to all. Join us at the Urban Farm for refreshments before embarking on a self-guided tour of our latest endeavors in the neighborhood! \nDuring your tour\, explore a newly constructed home\, catch up on the latest from the Cultivate Hope Corner Store\, delve into behind-the-scenes stories\, visit our charming Farmhouse Airbnb\, meet our newest additions – the chickens\, and much more! \nWrap up the evening at 6:00 pm with dessert and a special ceremony at the Cultivate Hope Corner Store\, where we’ll honor Len and Marlene Hadley. All are welcome! \nRSVPs are now closed\, but you are still welcome to attend!
URL:https://www.matthew-25.org/event/spring-celebration-2/
LOCATION:Cultivate Hope Urban Farm\, 437 G Ave. NW\, Cedar Rapids\, IA\, 52404\, United States
CATEGORIES:Other Events
ATTACH;FMTTYPE=image/png:https://www.matthew-25.org/wp-content/uploads/2024/04/2024-Spring-Celebration-Facebook-Event.png
ORGANIZER;CN="Matthew 25":MAILTO:info@matthew-25.org
END:VEVENT
END:VCALENDAR