BEGIN:VCALENDAR
VERSION:2.0
PRODID:-//Matthew 25 - ECPv6.15.14//NONSGML v1.0//EN
CALSCALE:GREGORIAN
METHOD:PUBLISH
X-WR-CALNAME:Matthew 25
X-ORIGINAL-URL:https://www.matthew-25.org
X-WR-CALDESC:Events for Matthew 25
REFRESH-INTERVAL;VALUE=DURATION:PT1H
X-Robots-Tag:noindex
X-PUBLISHED-TTL:PT1H
BEGIN:VTIMEZONE
TZID:America/Chicago
BEGIN:DAYLIGHT
TZOFFSETFROM:-0600
TZOFFSETTO:-0500
TZNAME:CDT
DTSTART:20230312T080000
END:DAYLIGHT
BEGIN:STANDARD
TZOFFSETFROM:-0500
TZOFFSETTO:-0600
TZNAME:CST
DTSTART:20231105T070000
END:STANDARD
BEGIN:DAYLIGHT
TZOFFSETFROM:-0600
TZOFFSETTO:-0500
TZNAME:CDT
DTSTART:20240310T080000
END:DAYLIGHT
BEGIN:STANDARD
TZOFFSETFROM:-0500
TZOFFSETTO:-0600
TZNAME:CST
DTSTART:20241103T070000
END:STANDARD
BEGIN:DAYLIGHT
TZOFFSETFROM:-0600
TZOFFSETTO:-0500
TZNAME:CDT
DTSTART:20250309T080000
END:DAYLIGHT
BEGIN:STANDARD
TZOFFSETFROM:-0500
TZOFFSETTO:-0600
TZNAME:CST
DTSTART:20251102T070000
END:STANDARD
END:VTIMEZONE
BEGIN:VEVENT
DTSTART;TZID=America/Chicago:20240802T090000
DTEND;TZID=America/Chicago:20240802T120000
DTSTAMP:20260424T124007
CREATED:20240514T211419Z
LAST-MODIFIED:20240514T211419Z
UID:10000586-1722589200-1722600000@www.matthew-25.org
SUMMARY:Fridays at the Farm Food Camps
DESCRIPTION:Spend your Fridays at the Farm\, learning about growing and making your own food! Come each week\, or sign up for just a few. Dates are July 12\,19\, 26 and August 2\,9\,16 from 9 am – 12 pm. \nWe will harvest fruits and veggies for snacks and baking\, make pickles and salsa\, and explore the ins and outs of growing our own food. \nWe’ll even try some tie dye with our scraps. There’s lots to learn and explore on the farm\, we hope you join us! \nThese food camps are for those 7-10 years old and is limited to 8 students each Friday. Cost is $25 per Friday/student or $130 for all six Fridays. \nIf your child would love to attend our camps on Fridays in July and August\, click here to complete the registration form. You will then be directed to the checkout to pay for the camp.
URL:https://www.matthew-25.org/event/fridays-at-the-farm-food-camps/2024-08-02/
LOCATION:Cultivate Hope Urban Farm\, 437 G Ave. NW\, Cedar Rapids\, IA\, 52404\, United States
CATEGORIES:Education
ATTACH;FMTTYPE=image/png:https://www.matthew-25.org/wp-content/uploads/2024/05/Food-Camp-Ad-2024.png
ORGANIZER;CN="Matthew 25":MAILTO:info@matthew-25.org
END:VEVENT
BEGIN:VEVENT
DTSTART;TZID=America/Chicago:20240726T090000
DTEND;TZID=America/Chicago:20240726T120000
DTSTAMP:20260424T124007
CREATED:20250502T201546Z
LAST-MODIFIED:20250502T201546Z
UID:10000631-1721984400-1721995200@www.matthew-25.org
SUMMARY:Fridays at the Farm Food Camps
DESCRIPTION:Spend your Fridays at the Farm in August learning about growing and making your own food! Come each week\, or sign up for just a few. Dates are August 1\,8\, and 15 from 9 am – 12 pm. \nWe will harvest fruits and veggies for snacks and baking\, make pickles and salsa\, and explore the ins and outs of growing our own food. \nWe’ll even try some tie dye with our scraps. There’s lots to learn and explore on the farm\, we hope you join us! \nThese food camps are for those 7-10 years old and is limited to 10 students each Friday. Cost is $30 per Friday. \nIf your child would love to attend our camps on Fridays in July and August\, click here to complete the registration form. You will then be directed to the checkout to pay for the camp.
URL:https://www.matthew-25.org/event/fridays-at-the-farm-food-camps-2/2024-07-26/
LOCATION:Cultivate Hope Urban Farm\, 437 G Ave. NW\, Cedar Rapids\, IA\, 52404\, United States
CATEGORIES:Education
ATTACH;FMTTYPE=image/png:https://www.matthew-25.org/wp-content/uploads/2025/01/2025-Fridays-at-the-Farm.png
ORGANIZER;CN="Matthew 25":MAILTO:info@matthew-25.org
END:VEVENT
BEGIN:VEVENT
DTSTART;TZID=America/Chicago:20240726T090000
DTEND;TZID=America/Chicago:20240726T120000
DTSTAMP:20260424T124007
CREATED:20240514T211419Z
LAST-MODIFIED:20240514T211419Z
UID:10000585-1721984400-1721995200@www.matthew-25.org
SUMMARY:Fridays at the Farm Food Camps
DESCRIPTION:Spend your Fridays at the Farm\, learning about growing and making your own food! Come each week\, or sign up for just a few. Dates are July 12\,19\, 26 and August 2\,9\,16 from 9 am – 12 pm. \nWe will harvest fruits and veggies for snacks and baking\, make pickles and salsa\, and explore the ins and outs of growing our own food. \nWe’ll even try some tie dye with our scraps. There’s lots to learn and explore on the farm\, we hope you join us! \nThese food camps are for those 7-10 years old and is limited to 8 students each Friday. Cost is $25 per Friday/student or $130 for all six Fridays. \nIf your child would love to attend our camps on Fridays in July and August\, click here to complete the registration form. You will then be directed to the checkout to pay for the camp.
URL:https://www.matthew-25.org/event/fridays-at-the-farm-food-camps/2024-07-26/
LOCATION:Cultivate Hope Urban Farm\, 437 G Ave. NW\, Cedar Rapids\, IA\, 52404\, United States
CATEGORIES:Education
ATTACH;FMTTYPE=image/png:https://www.matthew-25.org/wp-content/uploads/2024/05/Food-Camp-Ad-2024.png
ORGANIZER;CN="Matthew 25":MAILTO:info@matthew-25.org
END:VEVENT
BEGIN:VEVENT
DTSTART;TZID=America/Chicago:20240719T090000
DTEND;TZID=America/Chicago:20240719T120000
DTSTAMP:20260424T124007
CREATED:20250502T201546Z
LAST-MODIFIED:20250502T201546Z
UID:10000630-1721379600-1721390400@www.matthew-25.org
SUMMARY:Fridays at the Farm Food Camps
DESCRIPTION:Spend your Fridays at the Farm in August learning about growing and making your own food! Come each week\, or sign up for just a few. Dates are August 1\,8\, and 15 from 9 am – 12 pm. \nWe will harvest fruits and veggies for snacks and baking\, make pickles and salsa\, and explore the ins and outs of growing our own food. \nWe’ll even try some tie dye with our scraps. There’s lots to learn and explore on the farm\, we hope you join us! \nThese food camps are for those 7-10 years old and is limited to 10 students each Friday. Cost is $30 per Friday. \nIf your child would love to attend our camps on Fridays in July and August\, click here to complete the registration form. You will then be directed to the checkout to pay for the camp.
URL:https://www.matthew-25.org/event/fridays-at-the-farm-food-camps-2/2024-07-19/
LOCATION:Cultivate Hope Urban Farm\, 437 G Ave. NW\, Cedar Rapids\, IA\, 52404\, United States
CATEGORIES:Education
ATTACH;FMTTYPE=image/png:https://www.matthew-25.org/wp-content/uploads/2025/01/2025-Fridays-at-the-Farm.png
ORGANIZER;CN="Matthew 25":MAILTO:info@matthew-25.org
END:VEVENT
BEGIN:VEVENT
DTSTART;TZID=America/Chicago:20240719T090000
DTEND;TZID=America/Chicago:20240719T120000
DTSTAMP:20260424T124007
CREATED:20240514T211419Z
LAST-MODIFIED:20240514T211419Z
UID:10000584-1721379600-1721390400@www.matthew-25.org
SUMMARY:Fridays at the Farm Food Camps
DESCRIPTION:Spend your Fridays at the Farm\, learning about growing and making your own food! Come each week\, or sign up for just a few. Dates are July 12\,19\, 26 and August 2\,9\,16 from 9 am – 12 pm. \nWe will harvest fruits and veggies for snacks and baking\, make pickles and salsa\, and explore the ins and outs of growing our own food. \nWe’ll even try some tie dye with our scraps. There’s lots to learn and explore on the farm\, we hope you join us! \nThese food camps are for those 7-10 years old and is limited to 8 students each Friday. Cost is $25 per Friday/student or $130 for all six Fridays. \nIf your child would love to attend our camps on Fridays in July and August\, click here to complete the registration form. You will then be directed to the checkout to pay for the camp.
URL:https://www.matthew-25.org/event/fridays-at-the-farm-food-camps/2024-07-19/
LOCATION:Cultivate Hope Urban Farm\, 437 G Ave. NW\, Cedar Rapids\, IA\, 52404\, United States
CATEGORIES:Education
ATTACH;FMTTYPE=image/png:https://www.matthew-25.org/wp-content/uploads/2024/05/Food-Camp-Ad-2024.png
ORGANIZER;CN="Matthew 25":MAILTO:info@matthew-25.org
END:VEVENT
BEGIN:VEVENT
DTSTART;TZID=America/Chicago:20240712T090000
DTEND;TZID=America/Chicago:20240712T120000
DTSTAMP:20260424T124007
CREATED:20250502T201546Z
LAST-MODIFIED:20250502T201546Z
UID:10000629-1720774800-1720785600@www.matthew-25.org
SUMMARY:Fridays at the Farm Food Camps
DESCRIPTION:Spend your Fridays at the Farm in August learning about growing and making your own food! Come each week\, or sign up for just a few. Dates are August 1\,8\, and 15 from 9 am – 12 pm. \nWe will harvest fruits and veggies for snacks and baking\, make pickles and salsa\, and explore the ins and outs of growing our own food. \nWe’ll even try some tie dye with our scraps. There’s lots to learn and explore on the farm\, we hope you join us! \nThese food camps are for those 7-10 years old and is limited to 10 students each Friday. Cost is $30 per Friday. \nIf your child would love to attend our camps on Fridays in July and August\, click here to complete the registration form. You will then be directed to the checkout to pay for the camp.
URL:https://www.matthew-25.org/event/fridays-at-the-farm-food-camps-2/2024-07-12/
LOCATION:Cultivate Hope Urban Farm\, 437 G Ave. NW\, Cedar Rapids\, IA\, 52404\, United States
CATEGORIES:Education
ATTACH;FMTTYPE=image/png:https://www.matthew-25.org/wp-content/uploads/2025/01/2025-Fridays-at-the-Farm.png
ORGANIZER;CN="Matthew 25":MAILTO:info@matthew-25.org
END:VEVENT
BEGIN:VEVENT
DTSTART;TZID=America/Chicago:20240712T090000
DTEND;TZID=America/Chicago:20240712T120000
DTSTAMP:20260424T124007
CREATED:20240514T211419Z
LAST-MODIFIED:20240514T211419Z
UID:10000583-1720774800-1720785600@www.matthew-25.org
SUMMARY:Fridays at the Farm Food Camps
DESCRIPTION:Spend your Fridays at the Farm\, learning about growing and making your own food! Come each week\, or sign up for just a few. Dates are July 12\,19\, 26 and August 2\,9\,16 from 9 am – 12 pm. \nWe will harvest fruits and veggies for snacks and baking\, make pickles and salsa\, and explore the ins and outs of growing our own food. \nWe’ll even try some tie dye with our scraps. There’s lots to learn and explore on the farm\, we hope you join us! \nThese food camps are for those 7-10 years old and is limited to 8 students each Friday. Cost is $25 per Friday/student or $130 for all six Fridays. \nIf your child would love to attend our camps on Fridays in July and August\, click here to complete the registration form. You will then be directed to the checkout to pay for the camp.
URL:https://www.matthew-25.org/event/fridays-at-the-farm-food-camps/2024-07-12/
LOCATION:Cultivate Hope Urban Farm\, 437 G Ave. NW\, Cedar Rapids\, IA\, 52404\, United States
CATEGORIES:Education
ATTACH;FMTTYPE=image/png:https://www.matthew-25.org/wp-content/uploads/2024/05/Food-Camp-Ad-2024.png
ORGANIZER;CN="Matthew 25":MAILTO:info@matthew-25.org
END:VEVENT
BEGIN:VEVENT
DTSTART;TZID=America/Chicago:20240613T083000
DTEND;TZID=America/Chicago:20240613T153000
DTSTAMP:20260424T124007
CREATED:20240514T205615Z
LAST-MODIFIED:20240514T210824Z
UID:10000217-1718267400-1718292600@www.matthew-25.org
SUMMARY:Urban Farm Explorers Food Camp
DESCRIPTION:Does your child love exploring outside and getting their hands dirty? \nDuring this 4-day\, June 10-13\, Urban Farm Explorers Camp\, students will will get the chance to learn all the ins and outs of growing their own food\, and making healthy snacks and delicious treats with the things they harvest. \nWe’ll take a closer look at the pollinators that make the Urban Farm their home\, and do some fun crafts along the way. \nThis food camp is for those 7-10 years old and is limited to 8 students. Cost is $160/student for the 4-day camp. \nIf your child would love to attend our camp\, click here to complete the registration form. You will then be directed to the checkout to pay for the camp.
URL:https://www.matthew-25.org/event/urban-farm-explorers-food-camp/2024-06-13/
LOCATION:Cultivate Hope Urban Farm\, 437 G Ave. NW\, Cedar Rapids\, IA\, 52404\, United States
CATEGORIES:Education
ATTACH;FMTTYPE=image/png:https://www.matthew-25.org/wp-content/uploads/2024/05/Food-Camp-Ad-2024.png
ORGANIZER;CN="Matthew 25":MAILTO:info@matthew-25.org
END:VEVENT
BEGIN:VEVENT
DTSTART;TZID=America/Chicago:20240612T083000
DTEND;TZID=America/Chicago:20240612T153000
DTSTAMP:20260424T124007
CREATED:20240514T205615Z
LAST-MODIFIED:20240514T210824Z
UID:10000216-1718181000-1718206200@www.matthew-25.org
SUMMARY:Urban Farm Explorers Food Camp
DESCRIPTION:Does your child love exploring outside and getting their hands dirty? \nDuring this 4-day\, June 10-13\, Urban Farm Explorers Camp\, students will will get the chance to learn all the ins and outs of growing their own food\, and making healthy snacks and delicious treats with the things they harvest. \nWe’ll take a closer look at the pollinators that make the Urban Farm their home\, and do some fun crafts along the way. \nThis food camp is for those 7-10 years old and is limited to 8 students. Cost is $160/student for the 4-day camp. \nIf your child would love to attend our camp\, click here to complete the registration form. You will then be directed to the checkout to pay for the camp.
URL:https://www.matthew-25.org/event/urban-farm-explorers-food-camp/2024-06-12/
LOCATION:Cultivate Hope Urban Farm\, 437 G Ave. NW\, Cedar Rapids\, IA\, 52404\, United States
CATEGORIES:Education
ATTACH;FMTTYPE=image/png:https://www.matthew-25.org/wp-content/uploads/2024/05/Food-Camp-Ad-2024.png
ORGANIZER;CN="Matthew 25":MAILTO:info@matthew-25.org
END:VEVENT
BEGIN:VEVENT
DTSTART;TZID=America/Chicago:20240611T083000
DTEND;TZID=America/Chicago:20240611T153000
DTSTAMP:20260424T124007
CREATED:20240514T205615Z
LAST-MODIFIED:20240514T210824Z
UID:10000215-1718094600-1718119800@www.matthew-25.org
SUMMARY:Urban Farm Explorers Food Camp
DESCRIPTION:Does your child love exploring outside and getting their hands dirty? \nDuring this 4-day\, June 10-13\, Urban Farm Explorers Camp\, students will will get the chance to learn all the ins and outs of growing their own food\, and making healthy snacks and delicious treats with the things they harvest. \nWe’ll take a closer look at the pollinators that make the Urban Farm their home\, and do some fun crafts along the way. \nThis food camp is for those 7-10 years old and is limited to 8 students. Cost is $160/student for the 4-day camp. \nIf your child would love to attend our camp\, click here to complete the registration form. You will then be directed to the checkout to pay for the camp.
URL:https://www.matthew-25.org/event/urban-farm-explorers-food-camp/2024-06-11/
LOCATION:Cultivate Hope Urban Farm\, 437 G Ave. NW\, Cedar Rapids\, IA\, 52404\, United States
CATEGORIES:Education
ATTACH;FMTTYPE=image/png:https://www.matthew-25.org/wp-content/uploads/2024/05/Food-Camp-Ad-2024.png
ORGANIZER;CN="Matthew 25":MAILTO:info@matthew-25.org
END:VEVENT
BEGIN:VEVENT
DTSTART;TZID=America/Chicago:20240610T083000
DTEND;TZID=America/Chicago:20240610T153000
DTSTAMP:20260424T124007
CREATED:20240514T205615Z
LAST-MODIFIED:20240514T210824Z
UID:10000214-1718008200-1718033400@www.matthew-25.org
SUMMARY:Urban Farm Explorers Food Camp
DESCRIPTION:Does your child love exploring outside and getting their hands dirty? \nDuring this 4-day\, June 10-13\, Urban Farm Explorers Camp\, students will will get the chance to learn all the ins and outs of growing their own food\, and making healthy snacks and delicious treats with the things they harvest. \nWe’ll take a closer look at the pollinators that make the Urban Farm their home\, and do some fun crafts along the way. \nThis food camp is for those 7-10 years old and is limited to 8 students. Cost is $160/student for the 4-day camp. \nIf your child would love to attend our camp\, click here to complete the registration form. You will then be directed to the checkout to pay for the camp.
URL:https://www.matthew-25.org/event/urban-farm-explorers-food-camp/2024-06-10/
LOCATION:Cultivate Hope Urban Farm\, 437 G Ave. NW\, Cedar Rapids\, IA\, 52404\, United States
CATEGORIES:Education
ATTACH;FMTTYPE=image/png:https://www.matthew-25.org/wp-content/uploads/2024/05/Food-Camp-Ad-2024.png
ORGANIZER;CN="Matthew 25":MAILTO:info@matthew-25.org
END:VEVENT
END:VCALENDAR