BEGIN:VCALENDAR
VERSION:2.0
PRODID:-//Matthew 25 - ECPv6.15.14//NONSGML v1.0//EN
CALSCALE:GREGORIAN
METHOD:PUBLISH
X-WR-CALNAME:Matthew 25
X-ORIGINAL-URL:https://www.matthew-25.org
X-WR-CALDESC:Events for Matthew 25
REFRESH-INTERVAL;VALUE=DURATION:PT1H
X-Robots-Tag:noindex
X-PUBLISHED-TTL:PT1H
BEGIN:VTIMEZONE
TZID:America/Chicago
BEGIN:DAYLIGHT
TZOFFSETFROM:-0600
TZOFFSETTO:-0500
TZNAME:CDT
DTSTART:20250309T080000
END:DAYLIGHT
BEGIN:STANDARD
TZOFFSETFROM:-0500
TZOFFSETTO:-0600
TZNAME:CST
DTSTART:20251102T070000
END:STANDARD
BEGIN:DAYLIGHT
TZOFFSETFROM:-0600
TZOFFSETTO:-0500
TZNAME:CDT
DTSTART:20260308T080000
END:DAYLIGHT
BEGIN:STANDARD
TZOFFSETFROM:-0500
TZOFFSETTO:-0600
TZNAME:CST
DTSTART:20261101T070000
END:STANDARD
BEGIN:DAYLIGHT
TZOFFSETFROM:-0600
TZOFFSETTO:-0500
TZNAME:CDT
DTSTART:20270314T080000
END:DAYLIGHT
BEGIN:STANDARD
TZOFFSETFROM:-0500
TZOFFSETTO:-0600
TZNAME:CST
DTSTART:20271107T070000
END:STANDARD
END:VTIMEZONE
BEGIN:VEVENT
DTSTART;TZID=America/Chicago:20260506T193000
DTEND;TZID=America/Chicago:20260506T213000
DTSTAMP:20260423T075051
CREATED:20250911T210629Z
LAST-MODIFIED:20260422T210145Z
UID:10001112-1778095800-1778103000@www.matthew-25.org
SUMMARY:Storytellers of Cedar Rapids
DESCRIPTION:Rooted in the belief that stories connect us\, this final show in a four-part series invites local voices to the stage to share true\, personal stories inspired by themes drawn from Matthew 25’s core pillars. Each evening is a celebration of vulnerability\, truth\, and the power of storytelling to create belonging. For this show\, storytellers are exploring the theme: “There are No Strangers Here”. \nFeatured Storytellers for this show include: \n\nLucy Giorgio\nShyneeta Rush\nAndrew Becker\nCourtney Ball\n\nIf you are interested in supporting Storytellers of Cedar Rapids future events\, please contact us! \nShow begins at 7:30 PM (doors open at 7:00 PM)Location: Groundswell\, 201 3rd AVE SW \n\nTickets\n🎟️ Adult Admission: $15 per show🎓 Student Tickets: $7 per show \nCome for the stories. Stay for the connection.
URL:https://www.matthew-25.org/event/storytellers-of-cedar-rapids/
LOCATION:Groundswell Cafe\, 201 Third Ave. SW\, Cedar Rapids\, IA\, 52404\, United States
CATEGORIES:Community Building
ATTACH;FMTTYPE=image/png:https://www.matthew-25.org/wp-content/uploads/2025/09/Storytellers-Graphics-Season-2-MAY.png
ORGANIZER;CN="Matthew 25":MAILTO:info@matthew-25.org
END:VEVENT
END:VCALENDAR