BEGIN:VCALENDAR
VERSION:2.0
PRODID:-//Matthew 25 - ECPv6.15.14//NONSGML v1.0//EN
CALSCALE:GREGORIAN
METHOD:PUBLISH
X-ORIGINAL-URL:https://www.matthew-25.org
X-WR-CALDESC:Events for Matthew 25
REFRESH-INTERVAL;VALUE=DURATION:PT1H
X-Robots-Tag:noindex
X-PUBLISHED-TTL:PT1H
BEGIN:VTIMEZONE
TZID:America/Chicago
BEGIN:DAYLIGHT
TZOFFSETFROM:-0600
TZOFFSETTO:-0500
TZNAME:CDT
DTSTART:20240310T080000
END:DAYLIGHT
BEGIN:STANDARD
TZOFFSETFROM:-0500
TZOFFSETTO:-0600
TZNAME:CST
DTSTART:20241103T070000
END:STANDARD
BEGIN:DAYLIGHT
TZOFFSETFROM:-0600
TZOFFSETTO:-0500
TZNAME:CDT
DTSTART:20250309T080000
END:DAYLIGHT
BEGIN:STANDARD
TZOFFSETFROM:-0500
TZOFFSETTO:-0600
TZNAME:CST
DTSTART:20251102T070000
END:STANDARD
BEGIN:DAYLIGHT
TZOFFSETFROM:-0600
TZOFFSETTO:-0500
TZNAME:CDT
DTSTART:20260308T080000
END:DAYLIGHT
BEGIN:STANDARD
TZOFFSETFROM:-0500
TZOFFSETTO:-0600
TZNAME:CST
DTSTART:20261101T070000
END:STANDARD
END:VTIMEZONE
BEGIN:VEVENT
DTSTART;TZID=America/Chicago:20250902T170000
DTEND;TZID=America/Chicago:20250902T183000
DTSTAMP:20260421T051932
CREATED:20250506T155612Z
LAST-MODIFIED:20250807T173607Z
UID:10001021-1756832400-1756837800@www.matthew-25.org
SUMMARY:Community Building Potluck
DESCRIPTION:Join Us for Matthew 25’s Community Building Potlucks! \nWe’re excited to announce a new way to connect with neighbors and build a stronger community—Matthew 25’s Community Building Potlucks\, happening every first Tuesday of the month! \nBring a dish to share and enjoy a warm\, welcoming atmosphere filled with great food and meaningful conversations. Whether you’re looking to make new friends\, strengthen community ties\, or simply enjoy a delicious meal\, this is the perfect opportunity. \n📅 When: First Tuesday of every month\n📍 Where: Matthew 25\n🍽 What to Bring: A dish to share (if you can!) See what others are bringing and sign up to bring a special dish here. \nAll are welcome—come as you are and bring a friend! Let’s share food\, stories\, and connections that strengthen our community. For more details\, visit call 319-362-2214.
URL:https://www.matthew-25.org/event/community-building-potluck-3/2025-09-02/
LOCATION:Groundswell Cafe\, 201 Third Ave. SW\, Cedar Rapids\, IA\, 52404\, United States
CATEGORIES:Community Building
ATTACH;FMTTYPE=image/png:https://www.matthew-25.org/wp-content/uploads/2025/02/Potluck-Photo-for-Website2.png
ORGANIZER;CN="Matthew 25":MAILTO:info@matthew-25.org
END:VEVENT
BEGIN:VEVENT
DTSTART;TZID=America/Chicago:20250903T193000
DTEND;TZID=America/Chicago:20250903T213000
DTSTAMP:20260421T051932
CREATED:20250716T163417Z
LAST-MODIFIED:20250909T201644Z
UID:10001105-1756927800-1756935000@www.matthew-25.org
SUMMARY:Storytellers of Cedar Rapids
DESCRIPTION:We’re thrilled to announce the second season of Storytellers of Cedar Rapids\, a live storytelling series produced by Akwi Nji and Courtney Ball. \nRooted in the belief that stories connect us\, this four-part series invites local voices to the stage to share true\, personal stories inspired by themes drawn from Matthew 25’s core pillars: Learning\, Nourishment\, Shelter\, and Community. Each evening is a celebration of vulnerability\, truth\, and the power of storytelling to create belonging. \nStorytellers for the September 3 show include: \n\nCourtney Ball\nDani Cirves\nClarice Krippner\nHarold Walehwa\nLauren White\n\nAdding to the atmosphere of the evening\, special musical guest Anji Kat\, an award-winning and soulful local artist\, will perform live! \nSeason 2 Lineup\n📍 September 3 — What I Thought I Knew🍽️ November 12 — What I Hunger For🏠 March 4 — Seeking Shelter🤝 May 6 — There Are No Strangers Here \nAll shows begin at 7:30 PM (doors open at 7:00 PM)Location: Groundswell\, 201 3rd AVE SW \nCome for the stories. Stay for the connection. \nSponsors\nWe are grateful to these sponsors for their support in making Storytellers of Cedar Rapids possible: \nGuiding Sponsors \n\nNational Endowment for the Arts and the Iowa Arts Council (as part of the Iowa Economic Development Authority)\nBarry and Gilda Boyer\nMichelle LeCompte and the James and Doris LeCompte Endowment Fund\n\nInspiring Sponsor \n\nDavid Maier\n\n\nTickets\nTickets for tonight’s show are sold out\, if you have any questions\, please call 319-200-2789. \nAll ticket transactions are final and non-refundable. We sincerely appreciate your understanding and support.
URL:https://www.matthew-25.org/event/storytellers-of-cedar-rapids-2-1/
LOCATION:Groundswell Cafe\, 201 Third Ave. SW\, Cedar Rapids\, IA\, 52404\, United States
CATEGORIES:Community Building
ATTACH;FMTTYPE=image/png:https://www.matthew-25.org/wp-content/uploads/2025/07/M25-event-Storytellers-Graphics-Season-2-SEPT-SOLD-OUT-1.png
ORGANIZER;CN="Matthew 25":MAILTO:info@matthew-25.org
END:VEVENT
END:VCALENDAR