BEGIN:VCALENDAR
VERSION:2.0
PRODID:-//Matthew 25 - ECPv6.15.14//NONSGML v1.0//EN
CALSCALE:GREGORIAN
METHOD:PUBLISH
X-WR-CALNAME:Matthew 25
X-ORIGINAL-URL:https://www.matthew-25.org
X-WR-CALDESC:Events for Matthew 25
REFRESH-INTERVAL;VALUE=DURATION:PT1H
X-Robots-Tag:noindex
X-PUBLISHED-TTL:PT1H
BEGIN:VTIMEZONE
TZID:America/Chicago
BEGIN:DAYLIGHT
TZOFFSETFROM:-0600
TZOFFSETTO:-0500
TZNAME:CDT
DTSTART:20240310T080000
END:DAYLIGHT
BEGIN:STANDARD
TZOFFSETFROM:-0500
TZOFFSETTO:-0600
TZNAME:CST
DTSTART:20241103T070000
END:STANDARD
BEGIN:DAYLIGHT
TZOFFSETFROM:-0600
TZOFFSETTO:-0500
TZNAME:CDT
DTSTART:20250309T080000
END:DAYLIGHT
BEGIN:STANDARD
TZOFFSETFROM:-0500
TZOFFSETTO:-0600
TZNAME:CST
DTSTART:20251102T070000
END:STANDARD
BEGIN:DAYLIGHT
TZOFFSETFROM:-0600
TZOFFSETTO:-0500
TZNAME:CDT
DTSTART:20260308T080000
END:DAYLIGHT
BEGIN:STANDARD
TZOFFSETFROM:-0500
TZOFFSETTO:-0600
TZNAME:CST
DTSTART:20261101T070000
END:STANDARD
END:VTIMEZONE
BEGIN:VEVENT
DTSTART;TZID=America/Chicago:20250623T083000
DTEND;TZID=America/Chicago:20250627T160000
DTSTAMP:20260423T074415
CREATED:20250415T204516Z
LAST-MODIFIED:20250415T204517Z
UID:10000166-1750667400-1751040000@www.matthew-25.org
SUMMARY:Transform Week
DESCRIPTION:Volunteer at our 10th Annual Transform Week\, June 23-27! \nVolunteers of all skill levels are invited to participate in a variety of projects\, from yard cleanup and painting fences\, to installing windows and patching roofs. \nThanks to amazing volunteers like you\, we are able to continue our commitment to quality affordable housing and strong neighborhood building. \nCheck out our webpage to learn more\, or click here to register for one\, two\, or all five days of Transform!
URL:https://www.matthew-25.org/event/transform-week-2-2/
LOCATION:Groundswell Cafe\, 201 Third Ave. SW\, Cedar Rapids\, IA\, 52404\, United States
CATEGORIES:Housing
ATTACH;FMTTYPE=image/png:https://www.matthew-25.org/wp-content/uploads/2023/05/transform-volunteer-banner.png
ORGANIZER;CN="Matthew 25":MAILTO:info@matthew-25.org
END:VEVENT
BEGIN:VEVENT
DTSTART;TZID=America/Chicago:20250626T090000
DTEND;TZID=America/Chicago:20250626T120000
DTSTAMP:20260423T074415
CREATED:20250123T220643Z
LAST-MODIFIED:20250127T145743Z
UID:10001013-1750928400-1750939200@www.matthew-25.org
SUMMARY:Urban Farm Art Adventure Camp
DESCRIPTION:Unleash your child’s creativity at our Urban Farm Art Camp for those 7-10 years old! This exciting 4-day program\, June 23-26\, 2025\, combines the beauty of nature with the joy of artistic expression. Campers will explore a variety of food and environmental-themed art projects\, from painting landscapes to crafting nature-inspired sculptures. Each day is a new adventure\, as kids immerse themselves in their environment while learning new techniques and building their confidence in art. \nPerfect for budding artists\, this camp offers a fun\, hands-on experience that fosters creativity\, teamwork\, and a love for the natural world. \nSign up today and watch your child’s imagination soar! \nThis art food camp is for those 7-10 years old and is limited to 10 students. Cost is $120/student for the 4-day camp. \nIf your child would love to attend\, click here to complete the registration form.
URL:https://www.matthew-25.org/event/urban-farm-art-adventure-camp/2025-06-26/
LOCATION:Cultivate Hope Urban Farm\, 437 G Ave. NW\, Cedar Rapids\, IA\, 52404\, United States
CATEGORIES:Education
ATTACH;FMTTYPE=image/png:https://www.matthew-25.org/wp-content/uploads/2025/01/2025-Art-Adventure-1.png
ORGANIZER;CN="Matthew 25":MAILTO:info@matthew-25.org
END:VEVENT
BEGIN:VEVENT
DTSTART;TZID=America/Chicago:20250626T160000
DTEND;TZID=America/Chicago:20250626T190000
DTSTAMP:20260423T074415
CREATED:20240923T134127Z
LAST-MODIFIED:20250415T201608Z
UID:10001078-1750953600-1750964400@www.matthew-25.org
SUMMARY:Cultivate Hope Mega Market
DESCRIPTION:The Cultivate Hope Mega Market is a celebration of food\, music\, activities\, and community at the Cultivate Hope Urban Farm\, located at 437 G Ave. NW.  We feature our locally-grown produce\, the brick oven is blazing as we create pizzas for you\, your family\, and your friends to enjoy in our beautiful setting. In 2025\, each Mega Market will have a special theme surrounding activities\, food and fun.  Mark your calendars.  We hope to see you all there! Come out and enjoy! \n  \nThis year’s Mega Markets are held from 4-7 pm on the last Thursday of the month from May-September. \nThis year’s dates with their special themes are: \nMay 29 – Bloom \nJune 26 – Garden Party \nJuly 31 – Midsummer Night’s Dream \nAugust 28 – Tomato Time \nSeptember 25 – Harvest Festival
URL:https://www.matthew-25.org/event/cultivate-hope-mega-market-3/2025-06-26/
LOCATION:Cultivate Hope Urban Farm\, 437 G Ave. NW\, Cedar Rapids\, IA\, 52404\, United States
CATEGORIES:Food
ATTACH;FMTTYPE=image/png:https://www.matthew-25.org/wp-content/uploads/2024/09/mega-market-2025-Memo-Graphic.png
ORGANIZER;CN="Matthew 25":MAILTO:info@matthew-25.org
END:VEVENT
BEGIN:VEVENT
DTSTART;TZID=America/Chicago:20250626T160000
DTEND;TZID=America/Chicago:20250626T190000
DTSTAMP:20260423T074415
CREATED:20250502T202521Z
LAST-MODIFIED:20250502T202521Z
UID:10001088-1750953600-1750964400@www.matthew-25.org
SUMMARY:Farm Stand Market
DESCRIPTION:At our Farm Stand\, we provide fresh\, locally-grown produce from the Cultivate Hope Urban Farm\, grown without pesticides or herbicides in the heart of Cedar Rapids. Our CSA members will be picking up their weekly produce\, plus we’ll have other items available for sale. If you want to stay up on what we have for sale each week\, join our email list here. \nFarm Stand Markets are held from 4-7 pm every Thursday from May 22 – October 2 at the Cultivate Hope Urban Farm\, 437 G Ave. NW. \nCash or card is accepted. See you at the farm!
URL:https://www.matthew-25.org/event/farm-stand-market/2025-06-26/
LOCATION:Cultivate Hope Urban Farm\, 437 G Ave. NW\, Cedar Rapids\, IA\, 52404\, United States
CATEGORIES:Food
ATTACH;FMTTYPE=image/png:https://www.matthew-25.org/wp-content/uploads/2025/05/Farm-Event-Website-Event.png
ORGANIZER;CN="Matthew 25":MAILTO:info@matthew-25.org
END:VEVENT
END:VCALENDAR