BEGIN:VCALENDAR
VERSION:2.0
PRODID:-//Matthew 25 - ECPv6.15.14//NONSGML v1.0//EN
CALSCALE:GREGORIAN
METHOD:PUBLISH
X-ORIGINAL-URL:https://www.matthew-25.org
X-WR-CALDESC:Events for Matthew 25
REFRESH-INTERVAL;VALUE=DURATION:PT1H
X-Robots-Tag:noindex
X-PUBLISHED-TTL:PT1H
BEGIN:VTIMEZONE
TZID:America/Chicago
BEGIN:DAYLIGHT
TZOFFSETFROM:-0600
TZOFFSETTO:-0500
TZNAME:CDT
DTSTART:20230312T080000
END:DAYLIGHT
BEGIN:STANDARD
TZOFFSETFROM:-0500
TZOFFSETTO:-0600
TZNAME:CST
DTSTART:20231105T070000
END:STANDARD
BEGIN:DAYLIGHT
TZOFFSETFROM:-0600
TZOFFSETTO:-0500
TZNAME:CDT
DTSTART:20240310T080000
END:DAYLIGHT
BEGIN:STANDARD
TZOFFSETFROM:-0500
TZOFFSETTO:-0600
TZNAME:CST
DTSTART:20241103T070000
END:STANDARD
BEGIN:DAYLIGHT
TZOFFSETFROM:-0600
TZOFFSETTO:-0500
TZNAME:CDT
DTSTART:20250309T080000
END:DAYLIGHT
BEGIN:STANDARD
TZOFFSETFROM:-0500
TZOFFSETTO:-0600
TZNAME:CST
DTSTART:20251102T070000
END:STANDARD
END:VTIMEZONE
BEGIN:VEVENT
DTSTART;TZID=America/Chicago:20240504T100000
DTEND;TZID=America/Chicago:20240504T130000
DTSTAMP:20260423T080823
CREATED:20240301T144836Z
LAST-MODIFIED:20240412T150227Z
UID:10000152-1714816800-1714827600@www.matthew-25.org
SUMMARY:Cultivate Hope Spring Plant Sale
DESCRIPTION:Cultivate Hope’s annual Spring Plant Sale\, held on May 4\, 2024 from 10 am – 1 pm at the Urban Farm\, will feature fruits\, vegetables\, herbs and flowers grown in our greenhouse as well as affordably priced annual and perennial plants grown by our local partners. \nPlus\, our Tool Library will have the following outdoor tools for sale during the Plant Sale: \n\n\nElectric and gas powered lawn mowers\nElectric and battery powered grass trimmers\nDrop and broadcast spreaders\nElectric and gas powered edgers\n2 large planters\nElectric blower/vacuum\nPole saws\nElectric and gas powered chain saws\nElectric hedge trimmers\n\n\nPlease join us at the Matthew 25’s Cultivate Hope Urban Farm located at 437 G Ave NW in Cedar Rapids.
URL:https://www.matthew-25.org/event/cultivate-hope-spring-plant-sale/
LOCATION:Cultivate Hope Urban Farm\, 437 G Ave. NW\, Cedar Rapids\, IA\, 52404\, United States
CATEGORIES:Food
ATTACH;FMTTYPE=image/png:https://www.matthew-25.org/wp-content/uploads/2024/02/Plant-Sale-date-Event.png
ORGANIZER;CN="Matthew 25":MAILTO:info@matthew-25.org
END:VEVENT
END:VCALENDAR