BEGIN:VCALENDAR
VERSION:2.0
PRODID:-//Matthew 25 - ECPv6.15.14//NONSGML v1.0//EN
CALSCALE:GREGORIAN
METHOD:PUBLISH
X-WR-CALNAME:Matthew 25
X-ORIGINAL-URL:https://www.matthew-25.org
X-WR-CALDESC:Events for Matthew 25
REFRESH-INTERVAL;VALUE=DURATION:PT1H
X-Robots-Tag:noindex
X-PUBLISHED-TTL:PT1H
BEGIN:VTIMEZONE
TZID:America/Chicago
BEGIN:DAYLIGHT
TZOFFSETFROM:-0600
TZOFFSETTO:-0500
TZNAME:CDT
DTSTART:20220313T080000
END:DAYLIGHT
BEGIN:STANDARD
TZOFFSETFROM:-0500
TZOFFSETTO:-0600
TZNAME:CST
DTSTART:20221106T070000
END:STANDARD
BEGIN:DAYLIGHT
TZOFFSETFROM:-0600
TZOFFSETTO:-0500
TZNAME:CDT
DTSTART:20230312T080000
END:DAYLIGHT
BEGIN:STANDARD
TZOFFSETFROM:-0500
TZOFFSETTO:-0600
TZNAME:CST
DTSTART:20231105T070000
END:STANDARD
BEGIN:DAYLIGHT
TZOFFSETFROM:-0600
TZOFFSETTO:-0500
TZNAME:CDT
DTSTART:20240310T080000
END:DAYLIGHT
BEGIN:STANDARD
TZOFFSETFROM:-0500
TZOFFSETTO:-0600
TZNAME:CST
DTSTART:20241103T070000
END:STANDARD
END:VTIMEZONE
BEGIN:VEVENT
DTSTART;TZID=America/Chicago:20230719T183000
DTEND;TZID=America/Chicago:20230719T203000
DTSTAMP:20260425T092043
CREATED:20230512T191823Z
LAST-MODIFIED:20230614T192933Z
UID:10000052-1689791400-1689798600@www.matthew-25.org
SUMMARY:Community Conversations
DESCRIPTION:If you are interested in joining a conversation with curious and open-minded individuals\, join us for Community Conversation on the third Wednesday of each month. No need to prepare for or have any special knowledge\, we welcome you to join us and share your own thoughts and feelings. \nMatthew 25 and a team of dedicated volunteers host monthly Community Conversations at the Groundswell Event Space\, 201 Third Ave. SW. The theme changes monthly\, but each time\, the conversations are rich and eye-opening for participants. The evening is structured\, so everybody gets a chance to talk. Most of the time is spent in smaller groups\, where it’s easy to share and get to know each other. And if you’re not a talker\, you are always welcome to just listen. \nWhy do we do this? Because it’s really important—but also rare these days—to spend face-to-face time with people you don’t know very well. Each time we host this event\, we learn something or see the world from a different perspective. \nA strong community doesn’t just happen. It’s built by people spending time together\, learning from one another and deepening relationships. That fabric becomes even stronger if it’s built among people from diverse groups. \nJoin this free event if you’d like to meet new people\, have meaningful\, respectful conversations\, and learn through listening. No RSVP required.
URL:https://www.matthew-25.org/event/community-conversations/2023-07-19/
LOCATION:Groundswell Cafe\, 201 Third Ave. SW\, Cedar Rapids\, IA\, 52404\, United States
CATEGORIES:Community Building
ATTACH;FMTTYPE=image/jpeg:https://www.matthew-25.org/wp-content/uploads/2023/05/drone-shot-jpg-scaled.jpg
ORGANIZER;CN="Matthew 25":MAILTO:info@matthew-25.org
END:VEVENT
END:VCALENDAR