BEGIN:VCALENDAR
VERSION:2.0
PRODID:-//Matthew 25 - ECPv6.15.14//NONSGML v1.0//EN
CALSCALE:GREGORIAN
METHOD:PUBLISH
X-WR-CALNAME:Matthew 25
X-ORIGINAL-URL:https://www.matthew-25.org
X-WR-CALDESC:Events for Matthew 25
REFRESH-INTERVAL;VALUE=DURATION:PT1H
X-Robots-Tag:noindex
X-PUBLISHED-TTL:PT1H
BEGIN:VTIMEZONE
TZID:America/Chicago
BEGIN:DAYLIGHT
TZOFFSETFROM:-0600
TZOFFSETTO:-0500
TZNAME:CDT
DTSTART:20220313T080000
END:DAYLIGHT
BEGIN:STANDARD
TZOFFSETFROM:-0500
TZOFFSETTO:-0600
TZNAME:CST
DTSTART:20221106T070000
END:STANDARD
BEGIN:DAYLIGHT
TZOFFSETFROM:-0600
TZOFFSETTO:-0500
TZNAME:CDT
DTSTART:20230312T080000
END:DAYLIGHT
BEGIN:STANDARD
TZOFFSETFROM:-0500
TZOFFSETTO:-0600
TZNAME:CST
DTSTART:20231105T070000
END:STANDARD
BEGIN:DAYLIGHT
TZOFFSETFROM:-0600
TZOFFSETTO:-0500
TZNAME:CDT
DTSTART:20240310T080000
END:DAYLIGHT
BEGIN:STANDARD
TZOFFSETFROM:-0500
TZOFFSETTO:-0600
TZNAME:CST
DTSTART:20241103T070000
END:STANDARD
END:VTIMEZONE
BEGIN:VEVENT
DTSTART;TZID=America/Chicago:20230629T083000
DTEND;TZID=America/Chicago:20230629T153000
DTSTAMP:20260425T091513
CREATED:20230512T180123Z
LAST-MODIFIED:20230512T180123Z
UID:10000048-1688027400-1688052600@www.matthew-25.org
SUMMARY:Transform Week
DESCRIPTION:Volunteer at our 8th Annual Transform Week\, June 26-30! \nVolunteers of all skill levels are invited to participate in a variety of projects\, from yard cleanup and painting fences\, to installing windows and patching roofs. \nThanks to amazing volunteers like you\, we are able to continue our commitment to quality affordable housing and strong neighborhood building. \nCheck out our webpage to learn more\, or click here to register for one\, two\, or all five days of Transform!
URL:https://www.matthew-25.org/event/transform-week/2023-06-29/
LOCATION:Groundswell Cafe\, 201 Third Ave. SW\, Cedar Rapids\, IA\, 52404\, United States
CATEGORIES:Housing
ATTACH;FMTTYPE=image/png:https://www.matthew-25.org/wp-content/uploads/2023/05/transform-volunteer-banner.png
ORGANIZER;CN="Matthew 25":MAILTO:info@matthew-25.org
END:VEVENT
BEGIN:VEVENT
DTSTART;TZID=America/Chicago:20230629T160000
DTEND;TZID=America/Chicago:20230629T200000
DTSTAMP:20260425T091513
CREATED:20230526T141204Z
LAST-MODIFIED:20230526T141204Z
UID:10000115-1688054400-1688068800@www.matthew-25.org
SUMMARY:Mega Market
DESCRIPTION:The Cultivate Hope Mega Market is a celebration of food\, music\, activities\, and community at the Cultivate Hope Urban Farm\, located at 437 G Ave. NW.  We feature our locally-grown produce\, the brick oven is blazing as we create pizzas for you\, your family\, and your friends to enjoy in our beautiful setting.  Mark your calendars.  We hope to see you all there! \n  \nThis year’s Mega Markets are held from 4-8 pm on the last Thursday of the month from May-September. \nThis year’s dates are: \nMay 25 \nJune 29 \nJuly 27 \nAugust 31 \nSeptember 28
URL:https://www.matthew-25.org/event/mega-market/2023-06-29/
LOCATION:Cultivate Hope Urban Farm\, 437 G Ave. NW\, Cedar Rapids\, IA\, 52404\, United States
CATEGORIES:Food
ATTACH;FMTTYPE=image/png:https://www.matthew-25.org/wp-content/uploads/2023/05/Cultivate-Hope-Mega-Market-memo-ad.png
ORGANIZER;CN="Matthew 25":MAILTO:info@matthew-25.org
END:VEVENT
END:VCALENDAR